BEGIN:VCALENDAR
VERSION:2.0
PRODID:-//brasshoppers.ch//NONSGML kigkonsult.se iCalcreator 2.16.12//
METHOD:PUBLISH
X-MS-OLK-FORCEINSPECTOROPEN:TRUE
BEGIN:VEVENT
UID:20260421T115338CEST-2303uHVMpx@brasshoppers.ch
DTSTAMP:20260421T095338Z
DESCRIPTION:
DTSTART:20261128T173000
DTEND:20261128T183000
LOCATION:Oberwil
ORGANIZER:MAILTO:brasshoppers.ch <info@brasshoppers.ch>
SUMMARY:Adventsmärt
END:VEVENT
END:VCALENDAR
