BEGIN:VCALENDAR
VERSION:2.0
PRODID:-//brasshoppers.ch//NONSGML kigkonsult.se iCalcreator 2.16.12//
METHOD:PUBLISH
X-MS-OLK-FORCEINSPECTOROPEN:TRUE
BEGIN:VEVENT
UID:20260419T165939CEST-1773vnujl4@brasshoppers.ch
DTSTAMP:20260419T145939Z
DESCRIPTION:
DTSTART:20260328T093000
DTEND:20260328T101500
LOCATION:Villmergen
ORGANIZER:MAILTO:brasshoppers.ch <info@brasshoppers.ch>
SUMMARY:Platzkonzert Villmergen
END:VEVENT
END:VCALENDAR
