BEGIN:VCALENDAR
VERSION:2.0
PRODID:-//brasshoppers.ch//NONSGML kigkonsult.se iCalcreator 2.16.12//
METHOD:PUBLISH
X-MS-OLK-FORCEINSPECTOROPEN:TRUE
BEGIN:VEVENT
UID:20260421T115338CEST-2214ZJ9Hii@brasshoppers.ch
DTSTAMP:20260421T095338Z
DESCRIPTION:
DTSTART:20260829T143000
DTEND:20260829T153000
LOCATION:Villmergen
ORGANIZER:MAILTO:brasshoppers.ch <info@brasshoppers.ch>
SUMMARY:Sinnespark-Festival
END:VEVENT
END:VCALENDAR
