BEGIN:VCALENDAR
VERSION:2.0
PRODID:-//brasshoppers.ch//NONSGML kigkonsult.se iCalcreator 2.16.12//
METHOD:PUBLISH
X-MS-OLK-FORCEINSPECTOROPEN:TRUE
BEGIN:VEVENT
UID:20260419T171631CEST-2424RGWSm0@brasshoppers.ch
DTSTAMP:20260419T151631Z
DESCRIPTION:
DTSTART:20260531T170000
DTEND:20260531T190000
LOCATION:Dottikon\, Risi
ORGANIZER:MAILTO:brasshoppers.ch <info@brasshoppers.ch>
SUMMARY:Gemeinschaftskonzert 'Swiss Armed Forces Brass Band'
END:VEVENT
END:VCALENDAR
